BEGIN:VCALENDAR
VERSION:2.0
PRODID:-//Slaam.ch - ECPv5.14.1//NONSGML v1.0//EN
CALSCALE:GREGORIAN
METHOD:PUBLISH
X-WR-CALNAME:Slaam.ch
X-ORIGINAL-URL:https://slaam.ch
X-WR-CALDESC:Events for Slaam.ch
REFRESH-INTERVAL;VALUE=DURATION:PT1H
X-Robots-Tag:noindex
X-PUBLISHED-TTL:PT1H
BEGIN:VTIMEZONE
TZID:Europe/Paris
BEGIN:DAYLIGHT
TZOFFSETFROM:+0100
TZOFFSETTO:+0200
TZNAME:CEST
DTSTART:20250330T010000
END:DAYLIGHT
BEGIN:STANDARD
TZOFFSETFROM:+0200
TZOFFSETTO:+0100
TZNAME:CET
DTSTART:20251026T010000
END:STANDARD
END:VTIMEZONE
BEGIN:VEVENT
DTSTART;TZID=Europe/Paris:20250114T183000
DTEND;TZID=Europe/Paris:20250114T223000
DTSTAMP:20260425T061115
CREATED:20241230T121903Z
LAST-MODIFIED:20250112T195838Z
UID:685-1736879400-1736893800@slaam.ch
SUMMARY:Atelier d'écriture et scène libre au Base Bar
DESCRIPTION:18:30 Atelier d’écriture animé par Honorable Scarabée (sans inscription\, prix libre)\n20:30 Scène libre animée par L’Indomptable\nThème de la première partie : « Tous les hommes »\nDeuxième partie : libre
URL:https://slaam.ch/agenda/scene-libre/
LOCATION:Base Bar\, Avenue de Sévelin 46\, Lausanne\, Suisse
END:VEVENT
END:VCALENDAR